BEGIN:VCALENDAR
VERSION:2.0
PRODID:-//Grillbillies BBQ - ECPv6.15.17.1//NONSGML v1.0//EN
CALSCALE:GREGORIAN
METHOD:PUBLISH
X-ORIGINAL-URL:https://grillbilliesbarbecue.com
X-WR-CALDESC:Events for Grillbillies BBQ
REFRESH-INTERVAL;VALUE=DURATION:PT1H
X-Robots-Tag:noindex
X-PUBLISHED-TTL:PT1H
BEGIN:VTIMEZONE
TZID:America/New_York
BEGIN:DAYLIGHT
TZOFFSETFROM:-0500
TZOFFSETTO:-0400
TZNAME:EDT
DTSTART:20240310T070000
END:DAYLIGHT
BEGIN:STANDARD
TZOFFSETFROM:-0400
TZOFFSETTO:-0500
TZNAME:EST
DTSTART:20241103T060000
END:STANDARD
BEGIN:DAYLIGHT
TZOFFSETFROM:-0500
TZOFFSETTO:-0400
TZNAME:EDT
DTSTART:20250309T070000
END:DAYLIGHT
BEGIN:STANDARD
TZOFFSETFROM:-0400
TZOFFSETTO:-0500
TZNAME:EST
DTSTART:20251102T060000
END:STANDARD
BEGIN:DAYLIGHT
TZOFFSETFROM:-0500
TZOFFSETTO:-0400
TZNAME:EDT
DTSTART:20260308T070000
END:DAYLIGHT
BEGIN:STANDARD
TZOFFSETFROM:-0400
TZOFFSETTO:-0500
TZNAME:EST
DTSTART:20261101T060000
END:STANDARD
END:VTIMEZONE
BEGIN:VEVENT
DTSTART;TZID=America/New_York:20251018T100000
DTEND;TZID=America/New_York:20251018T130000
DTSTAMP:20260419T112946
CREATED:20250302T175046Z
LAST-MODIFIED:20250302T182855Z
UID:30679-1760781600-1760792400@grillbilliesbarbecue.com
SUMMARY:Hands-on Brisket-October 18\, 2025
DESCRIPTION:Hands-On Brisket \nOctober 18\, 2025 \n10:00 AM to 1:00 PM \nRegister Here!\nThis is the class that will take your brisket to the next level.  Using your current cooking skills as a foundation\, we will build upon those techniques. This is a ”hands-on” class where you will get your very own   \nbrisket to trim\, inject and season so it’s ready for your smoker or grill.  Our Pro Pitmaster \nwill share some of the secrets used by the Pros. This class is back by popular demand\, so\, don’t miss it!! \n !!!!DUE TO THE “HANDS-ON” NATURE OF THE CLASS SEATING IS LIMITED!!!! \nWhat you will learn: \nTrim Like the Pros \nInjection Process \nMaking Au Jus \nFantastic Seasoning Combinations \nDetailed Timelines \nPro Cooking Processes \nMethods for Cooking on YOUR Grill or smoker \nDetailed Discussion on Proper Wood and Pellet Selection \n 
URL:https://grillbilliesbarbecue.com/event/hands-on-brisket-october-18-2025/
CATEGORIES:Classes
ATTACH;FMTTYPE=image/png:https://grillbilliesbarbecue.com/wp-content/uploads/2022/09/brisket.png
END:VEVENT
END:VCALENDAR