BEGIN:VCALENDAR
VERSION:2.0
PRODID:-//Grillbillies BBQ - ECPv6.15.17.1//NONSGML v1.0//EN
CALSCALE:GREGORIAN
METHOD:PUBLISH
X-ORIGINAL-URL:https://grillbilliesbarbecue.com
X-WR-CALDESC:Events for Grillbillies BBQ
REFRESH-INTERVAL;VALUE=DURATION:PT1H
X-Robots-Tag:noindex
X-PUBLISHED-TTL:PT1H
BEGIN:VTIMEZONE
TZID:America/New_York
BEGIN:DAYLIGHT
TZOFFSETFROM:-0500
TZOFFSETTO:-0400
TZNAME:EDT
DTSTART:20240310T070000
END:DAYLIGHT
BEGIN:STANDARD
TZOFFSETFROM:-0400
TZOFFSETTO:-0500
TZNAME:EST
DTSTART:20241103T060000
END:STANDARD
BEGIN:DAYLIGHT
TZOFFSETFROM:-0500
TZOFFSETTO:-0400
TZNAME:EDT
DTSTART:20250309T070000
END:DAYLIGHT
BEGIN:STANDARD
TZOFFSETFROM:-0400
TZOFFSETTO:-0500
TZNAME:EST
DTSTART:20251102T060000
END:STANDARD
BEGIN:DAYLIGHT
TZOFFSETFROM:-0500
TZOFFSETTO:-0400
TZNAME:EDT
DTSTART:20260308T070000
END:DAYLIGHT
BEGIN:STANDARD
TZOFFSETFROM:-0400
TZOFFSETTO:-0500
TZNAME:EST
DTSTART:20261101T060000
END:STANDARD
END:VTIMEZONE
BEGIN:VEVENT
DTSTART;TZID=America/New_York:20250919T160000
DTEND;TZID=America/New_York:20250919T160000
DTSTAMP:20260419T125838
CREATED:20250618T162054Z
LAST-MODIFIED:20250620T195613Z
UID:31132-1758297600-1758297600@grillbilliesbarbecue.com
SUMMARY:Universal Chevrolet Backyard BBQ Contest-Peoples Choice-September 19\, 2025
DESCRIPTION:114 N. Main Street \nWendell\, NC 27591 \nEmail AND Phone number are required when registering. \nEntry Fee $80.00/Team  REGISTER HERE \n(Universal Chevrolet Supplies All Meats) \nShow the public what a great BBQ cook you are.  Join us for a people’s choice contest for cooking the best pork. \nThis event will be held at Universal Chevrolet and should be well attended. Restricted to 25 teams.  This is two contests in one. The public gets to vote and there is a blind judging portion. The judging public will be given one ticket each to vote. There will be “no stuffing the ballot box”.  So\, if you are that guy or gal whom everyone says\, “you cook the best “Q” in town” then come out and show off your stuff. \n  \nHere are the winnings \n\n\n\n\nPeople’s Choice                    \nJudging\n\n\n1st Place\n$ 500                                        \n$ 500\n\n\n2nd Place\n$ 200                                        \n$  300\n\n\n3rd Place\n$ 100                                        \n$  200\n\n\n4th Place\n$ 50 Gift Card\n \n\n\n5th Place\n$ 25 Gift Card\n\n\n\n\nHere’s how it works: \nPEOPLES CHOICE: \nSeptember 19\, 2025 \nTeams can arrive at 4:00 PM\, \nMandatory Cooks Meeting 6:30 PM \n September 20\, 2024 \nJudging Turn-In 10:30 AM (no garnish required) \nPeople’s Choice starts at 11:00 AM-3:00 PM \nTicket turn in 3:30 PM \nWinners announced 4:30 PM \nCook Trailers Allowed \nWood\, charcoal\, electric\, & gas are acceptable \nTeams are responsible for collecting and turning in tickets to the designated rep at the conclusion. \nUniversal Will Provide:  \nEach team with 4 – 8#-9# butts \n2 oz. sample serving cups \nJudging Turn-in Boxes \nWater \nNo Electric – Generators Allowed \nBathroom Facilities \nGrease/gray water disposal \nTrash disposal \nAsh disposal \nNOTE:  This event is open to the public.  Come out and see all the different smokers\, tast\, some fabulous “Q” and speak with the Pitmasters. Watch the madness of competition barbecue.  This will be a fun day! \nAny Questions: \n919-366-5252 \njoe@grillbilliesbbq.com
URL:https://grillbilliesbarbecue.com/event/universal-chevrolet-backyard-bbq-contest-peoples-choice-september-19-2025/
CATEGORIES:Free Event
ATTACH;FMTTYPE=image/jpeg:https://grillbilliesbarbecue.com/wp-content/uploads/2017/12/products-Pork_Butt_Cooked-2_4f0c348a-fcdb-45ec-858c-86cae43aed48.jpg
END:VEVENT
BEGIN:VEVENT
DTSTART;TZID=America/New_York:20250927T100000
DTEND;TZID=America/New_York:20250927T130000
DTSTAMP:20260419T125838
CREATED:20250618T194642Z
LAST-MODIFIED:20250831T155306Z
UID:31144-1758967200-1758978000@grillbilliesbarbecue.com
SUMMARY:Pizza Making and Pizza Oven Class-September 27\, 2025
DESCRIPTION:This is a limited seating class due to the hands-on nature\, so sign up quickly before it is sold out. \nREGISTER HERE \n10:00am to 1:00pm \nBy popular demand\, we are offering this truly “hands on” pizza making class. \nEveryone loves pizza and it makes a great add on tohttps://grillbilliesbarbecue.com/product/pizza-making-and…eptember-27-2025/ youhttps://grillbilliesbarbecue.com/product/pizza-making-and…eptember-27-2025/r outdoor cooking venue.  Show off your new learned skills and WOW your family and friends. Also\, we will demonstrate the versatility of  pizza ovens. This class will teach you the: \nDo’s and Don’ts \nSelecting the right ingredients \nProper combining of ingredients \nVarious dough making combo’s \nThe science behind dough making \nThe processes for cooking on different grills \nCompare pre-made and homemade dough \nOther items that are easily cooked on a pizza oven \nCome Join Us For A Morning Of Fun
URL:https://grillbilliesbarbecue.com/event/pizza-making-and-pizza-oven-class-september-27-2025/
ATTACH;FMTTYPE=image/jpeg:https://grillbilliesbarbecue.com/wp-content/uploads/2025/05/Urban_Slicer_Gluten_Free_Pizza_Dough_02.jpg
END:VEVENT
END:VCALENDAR