BEGIN:VCALENDAR
VERSION:2.0
PRODID:-//Grillbillies BBQ - ECPv6.15.17.1//NONSGML v1.0//EN
CALSCALE:GREGORIAN
METHOD:PUBLISH
X-WR-CALNAME:Grillbillies BBQ
X-ORIGINAL-URL:https://grillbilliesbarbecue.com
X-WR-CALDESC:Events for Grillbillies BBQ
REFRESH-INTERVAL;VALUE=DURATION:PT1H
X-Robots-Tag:noindex
X-PUBLISHED-TTL:PT1H
BEGIN:VTIMEZONE
TZID:America/New_York
BEGIN:DAYLIGHT
TZOFFSETFROM:-0500
TZOFFSETTO:-0400
TZNAME:EDT
DTSTART:20240310T070000
END:DAYLIGHT
BEGIN:STANDARD
TZOFFSETFROM:-0400
TZOFFSETTO:-0500
TZNAME:EST
DTSTART:20241103T060000
END:STANDARD
BEGIN:DAYLIGHT
TZOFFSETFROM:-0500
TZOFFSETTO:-0400
TZNAME:EDT
DTSTART:20250309T070000
END:DAYLIGHT
BEGIN:STANDARD
TZOFFSETFROM:-0400
TZOFFSETTO:-0500
TZNAME:EST
DTSTART:20251102T060000
END:STANDARD
BEGIN:DAYLIGHT
TZOFFSETFROM:-0500
TZOFFSETTO:-0400
TZNAME:EDT
DTSTART:20260308T070000
END:DAYLIGHT
BEGIN:STANDARD
TZOFFSETFROM:-0400
TZOFFSETTO:-0500
TZNAME:EST
DTSTART:20261101T060000
END:STANDARD
END:VTIMEZONE
BEGIN:VEVENT
DTSTART;TZID=America/New_York:20250308T100000
DTEND;TZID=America/New_York:20250308T130000
DTSTAMP:20260419T204102
CREATED:20241108T202037Z
LAST-MODIFIED:20241108T204454Z
UID:29773-1741428000-1741438800@grillbilliesbarbecue.com
SUMMARY:Whole Hog Class-March 8\, 2025
DESCRIPTION:REGISTER HERE\n10:00 AM to 1:00 PM \nEver thought about cooking a whole hog?  Ever cooked a whole hog and it just didn’t work out well? Then this is the class for you!  Learn everything you need to know about cooking a hog from a top Hog Pitmaster who will give you the road map to success.  No more mediocre outcomes.  You’ll get all the tools for a great cook.
URL:https://grillbilliesbarbecue.com/event/whole-hog-class-march-8-2025/
CATEGORIES:Classes
ATTACH;FMTTYPE=image/jpeg:https://grillbilliesbarbecue.com/wp-content/uploads/2024/11/Hog-Dressed.jpg
END:VEVENT
BEGIN:VEVENT
DTSTART;TZID=America/New_York:20250322T100000
DTEND;TZID=America/New_York:20250322T130000
DTSTAMP:20260419T204102
CREATED:20241108T160443Z
LAST-MODIFIED:20241108T160443Z
UID:29768-1742637600-1742648400@grillbilliesbarbecue.com
SUMMARY:Live Fire and Charcoal Cooking Class - March 22\, 2025
DESCRIPTION:Are you interested in learning how to cook over charcoal or live fire.  Would you like to improve your skills? In this BBQ class\, you will learn techniques\, fire management\, and grilling skills. Our experienced instructors will guide you through the process and help you master the art of cooking over live fire and charcoal.  The class will be held around various types of grills. Students are encouraged to participate in the cook.  Seating is limited. \nWe will demonstrate \nDifference between Briquettes/Lump/Gas \nVarious Fire Starters \nFire Management \nLive Fire \nIndirect/Direct \nReverse Sear \nCuts best to roast\, grill\, or smoke \nUsing charcoal heat to your benefit \nThe science behind charcoal cooking \nSmoking \nDemonstrations will include grilling the common proteins and the more complicated. \n“Lard Have Mercy” \nREGISTER HERE\n 
URL:https://grillbilliesbarbecue.com/event/live-fire-and-charcoal-cooking-class-march-22-2025/
ATTACH;FMTTYPE=image/jpeg:https://grillbilliesbarbecue.com/wp-content/uploads/2024/05/Big_Green_Egg_Natural_Hardwood_Lump_Charcoal_03.jpg
END:VEVENT
END:VCALENDAR