BEGIN:VCALENDAR
VERSION:2.0
PRODID:-//Grillbillies BBQ - ECPv6.15.20//NONSGML v1.0//EN
CALSCALE:GREGORIAN
METHOD:PUBLISH
X-ORIGINAL-URL:https://grillbilliesbarbecue.com
X-WR-CALDESC:Events for Grillbillies BBQ
REFRESH-INTERVAL;VALUE=DURATION:PT1H
X-Robots-Tag:noindex
X-PUBLISHED-TTL:PT1H
BEGIN:VTIMEZONE
TZID:America/New_York
BEGIN:DAYLIGHT
TZOFFSETFROM:-0500
TZOFFSETTO:-0400
TZNAME:EDT
DTSTART:20250309T070000
END:DAYLIGHT
BEGIN:STANDARD
TZOFFSETFROM:-0400
TZOFFSETTO:-0500
TZNAME:EST
DTSTART:20251102T060000
END:STANDARD
BEGIN:DAYLIGHT
TZOFFSETFROM:-0500
TZOFFSETTO:-0400
TZNAME:EDT
DTSTART:20260308T070000
END:DAYLIGHT
BEGIN:STANDARD
TZOFFSETFROM:-0400
TZOFFSETTO:-0500
TZNAME:EST
DTSTART:20261101T060000
END:STANDARD
BEGIN:DAYLIGHT
TZOFFSETFROM:-0500
TZOFFSETTO:-0400
TZNAME:EDT
DTSTART:20270314T070000
END:DAYLIGHT
BEGIN:STANDARD
TZOFFSETFROM:-0400
TZOFFSETTO:-0500
TZNAME:EST
DTSTART:20271107T060000
END:STANDARD
END:VTIMEZONE
BEGIN:VEVENT
DTSTART;TZID=America/New_York:20260926T100000
DTEND;TZID=America/New_York:20260926T130000
DTSTAMP:20260420T020338
CREATED:20251202T204543Z
LAST-MODIFIED:20251203T181427Z
UID:31916-1790416800-1790427600@grillbilliesbarbecue.com
SUMMARY:Pizza Making and Oven Class-September 26\, 2026
DESCRIPTION:REGISTER HERE \n10:00am to 1:00pm \nBy popular demand\, we are offering this truly “hands on” pizza making class. \nEveryone loves pizza and it makes a great add on tohttps://grillbilliesbarbecue.com/product/pizza-making-and…eptember-27-2025/ youhttps://grillbilliesbarbecue.com/product/pizza-making-and…eptember-27-2025/r outdoor cooking venue.  Show off your new learned skills and WOW your family and friends. Also\, we will demonstrate the versatility of  pizza ovens. This class will teach you the: \nDo’s and Don’ts \nSelecting the right ingredients \nProper combining of ingredients \nVarious dough making combo’s \nThe science behind dough making \nThe processes for cooking on different grills \nCompare pre-made and homemade dough \nOther items that are easily cooked on a pizza oven \nCome Join Us For A Morning Of Fun
URL:https://grillbilliesbarbecue.com/event/pizza-making-and-oven-class-september-26-2026/
CATEGORIES:Classes
ATTACH;FMTTYPE=image/jpeg:https://grillbilliesbarbecue.com/wp-content/uploads/2024/05/Big_Green_Egg_Bamboo_Pizza_Peel_and_Screen_02.jpg
END:VEVENT
END:VCALENDAR