BEGIN:VCALENDAR
VERSION:2.0
PRODID:-//Grillbillies BBQ - ECPv6.15.20//NONSGML v1.0//EN
CALSCALE:GREGORIAN
METHOD:PUBLISH
X-WR-CALNAME:Grillbillies BBQ
X-ORIGINAL-URL:https://grillbilliesbarbecue.com
X-WR-CALDESC:Events for Grillbillies BBQ
REFRESH-INTERVAL;VALUE=DURATION:PT1H
X-Robots-Tag:noindex
X-PUBLISHED-TTL:PT1H
BEGIN:VTIMEZONE
TZID:America/New_York
BEGIN:DAYLIGHT
TZOFFSETFROM:-0500
TZOFFSETTO:-0400
TZNAME:EDT
DTSTART:20240310T070000
END:DAYLIGHT
BEGIN:STANDARD
TZOFFSETFROM:-0400
TZOFFSETTO:-0500
TZNAME:EST
DTSTART:20241103T060000
END:STANDARD
BEGIN:DAYLIGHT
TZOFFSETFROM:-0500
TZOFFSETTO:-0400
TZNAME:EDT
DTSTART:20250309T070000
END:DAYLIGHT
BEGIN:STANDARD
TZOFFSETFROM:-0400
TZOFFSETTO:-0500
TZNAME:EST
DTSTART:20251102T060000
END:STANDARD
BEGIN:DAYLIGHT
TZOFFSETFROM:-0500
TZOFFSETTO:-0400
TZNAME:EDT
DTSTART:20260308T070000
END:DAYLIGHT
BEGIN:STANDARD
TZOFFSETFROM:-0400
TZOFFSETTO:-0500
TZNAME:EST
DTSTART:20261101T060000
END:STANDARD
END:VTIMEZONE
BEGIN:VEVENT
DTSTART;TZID=America/New_York:20250201T110000
DTEND;TZID=America/New_York:20250201T140000
DTSTAMP:20260419T210513
CREATED:20241105T183451Z
LAST-MODIFIED:20241227T202351Z
UID:29739-1738407600-1738418400@grillbilliesbarbecue.com
SUMMARY:Chili Cookoff-February 1\, 2025
DESCRIPTION:OPEN to the Public! Peoples Choice Contest. \nREGISTER HERE! \nChili Contest \nFebruary 1\, 2025 \n11:00 Am to 2:00 PM \n$ 39.00 \nEverybody seems to think they have the best damn chili recipe! If you think your one of those\, then let’s see your stuff.  Come out and join GrillBillies 4th Annual Chili Cookoff.  The public will be your judges so show them what you got. \nYou can Cook your chili at home – Just bring a crock pot or burner to keep it warm – Cookoff will be held indoors.  \nSince this cookoff will be held indoors space will be limited. \nIt will be a fun time and you could walk away with some moola! \nSIGN UP NOW!!!! \nLet’s bless Old Man Winter with some good dang chili!! \nPrizes \n1st Place               $ 150 \n2nd Place              $ 125 \n3rd Place               $   75 \n4th Place               $   40 \nGrillbillies will provide electric\, tables\, sample cups and spoons.
URL:https://grillbilliesbarbecue.com/event/chili-cookoff-february-1-2025/
ATTACH;FMTTYPE=image/jpeg:https://grillbilliesbarbecue.com/wp-content/uploads/2021/11/The-Best-Classic-Chili-550-500x375-1.jpg
END:VEVENT
BEGIN:VEVENT
DTSTART;TZID=America/New_York:20250118T110000
DTEND;TZID=America/New_York:20250118T140000
DTSTAMP:20260419T210513
CREATED:20241112T213149Z
LAST-MODIFIED:20250113T183345Z
UID:29808-1737198000-1737208800@grillbilliesbarbecue.com
SUMMARY:Free Pork Belly Demo-January 11\, 2025-RESCHEDULED JAN. 18TH
DESCRIPTION:RESCHEDULED FOR JAN. 18th DUE TO INCLEMENT WEATHER\nRegistration not is required but it helps us plan enough for tasting” \nIf you have barbecued or grilled enough you probably have heard of brisket burnt ends\, those sweet nuggets of joy.   There is no way you can eat just one. \nWell\, here’s a cheaper and much easier way to get the same results in less time.  Pork Belly burnt ends!  Yep\, the bacon of the pig.  Everyone loves bacon\, right?  You are going to love these morsels of delicacy\, it’s like eating candy.  Even if you are not interested in making them on a grill\, smoker or even simply in your oven\, join us for a taste and see what you think.  It is a great recipe to add to your backyard culinary menu!  Guaranteed\, your guests will love them and love you!\nREGISTER HERE
URL:https://grillbilliesbarbecue.com/event/free-pork-belly-demo-january-11-2025-rescheduled-jan-18th/
CATEGORIES:Classes,Free Event
ATTACH;FMTTYPE=image/jpeg:https://grillbilliesbarbecue.com/wp-content/uploads/2019/09/products-Belly_Done_6c66a83f-6648-4a68-b42f-a3a75a04c2a5.jpg
END:VEVENT
END:VCALENDAR