BEGIN:VCALENDAR
VERSION:2.0
PRODID:-//Grillbillies BBQ - ECPv6.15.17.1//NONSGML v1.0//EN
CALSCALE:GREGORIAN
METHOD:PUBLISH
X-WR-CALNAME:Grillbillies BBQ
X-ORIGINAL-URL:https://grillbilliesbarbecue.com
X-WR-CALDESC:Events for Grillbillies BBQ
REFRESH-INTERVAL;VALUE=DURATION:PT1H
X-Robots-Tag:noindex
X-PUBLISHED-TTL:PT1H
BEGIN:VTIMEZONE
TZID:America/New_York
BEGIN:DAYLIGHT
TZOFFSETFROM:-0500
TZOFFSETTO:-0400
TZNAME:EDT
DTSTART:20240310T070000
END:DAYLIGHT
BEGIN:STANDARD
TZOFFSETFROM:-0400
TZOFFSETTO:-0500
TZNAME:EST
DTSTART:20241103T060000
END:STANDARD
BEGIN:DAYLIGHT
TZOFFSETFROM:-0500
TZOFFSETTO:-0400
TZNAME:EDT
DTSTART:20250309T070000
END:DAYLIGHT
BEGIN:STANDARD
TZOFFSETFROM:-0400
TZOFFSETTO:-0500
TZNAME:EST
DTSTART:20251102T060000
END:STANDARD
BEGIN:DAYLIGHT
TZOFFSETFROM:-0500
TZOFFSETTO:-0400
TZNAME:EDT
DTSTART:20260308T070000
END:DAYLIGHT
BEGIN:STANDARD
TZOFFSETFROM:-0400
TZOFFSETTO:-0500
TZNAME:EST
DTSTART:20261101T060000
END:STANDARD
END:VTIMEZONE
BEGIN:VEVENT
DTSTART;TZID=America/New_York:20251115T090000
DTEND;TZID=America/New_York:20251115T160000
DTSTAMP:20260419T112845
CREATED:20250619T201907Z
LAST-MODIFIED:20251112T233012Z
UID:31150-1763197200-1763222400@grillbilliesbarbecue.com
SUMMARY:Turkey and Standing Rib Roast Class-November 15\, 2025
DESCRIPTION:SORRY\, CLASS IS SOLD OUT\n\nSPOTS FILL UP FAST! \n“Do One or Both”  \n9AM–12PM: TURKEY MASTERCLASS\nBack by overwhelming demand! Our Turkey Class was a smash hit the past two years—and we’re bringing the magic back. Whether you want to grill it\, smoke it\, or simply knock your guests’ socks off this Thanksgiving\, we’ll teach you how to prepare a mouthwatering bird that’s cooked to perfection. Our expert tips and techniques that will turn you into the holiday hero!\nThis class is hands-on. Students will pair up and receive a turkey to prep and take half home ready to cook. \n1PM–3PM: STANDING RIB ROAST MASTER CLASS \nWe are bringing back our Standing Rib Roast class this year.  This delicious cut of beef is becoming a favorite for many during the holidays. We will demonstrate everything you need to know to make a fantastic Standing Rib Roast at home.\nWhat You’ll Learn in Both Classes: \n\nWhat to Buy\nPrep & Trimming\nBrining and Injecting\nUse of Seasoning & Layering Recipes\nDiscuss Smoking\, Grill or Oven Cooking\nFinishing Touches\nWood Selection and Cook Timelines\nCarving\nPitfalls to Avoid for Consistent Results
URL:https://grillbilliesbarbecue.com/event/turkey-and-standing-rib-roast-class-november-15-2025/
CATEGORIES:Classes
ATTACH;FMTTYPE=image/jpeg:https://grillbilliesbarbecue.com/wp-content/uploads/2021/03/turkeys_spatchcocked_large.jpg
END:VEVENT
END:VCALENDAR