BEGIN:VCALENDAR
VERSION:2.0
PRODID:-//Grillbillies BBQ - ECPv6.15.20//NONSGML v1.0//EN
CALSCALE:GREGORIAN
METHOD:PUBLISH
X-WR-CALNAME:Grillbillies BBQ
X-ORIGINAL-URL:https://grillbilliesbarbecue.com
X-WR-CALDESC:Events for Grillbillies BBQ
REFRESH-INTERVAL;VALUE=DURATION:PT1H
X-Robots-Tag:noindex
X-PUBLISHED-TTL:PT1H
BEGIN:VTIMEZONE
TZID:America/New_York
BEGIN:DAYLIGHT
TZOFFSETFROM:-0500
TZOFFSETTO:-0400
TZNAME:EDT
DTSTART:20240310T070000
END:DAYLIGHT
BEGIN:STANDARD
TZOFFSETFROM:-0400
TZOFFSETTO:-0500
TZNAME:EST
DTSTART:20241103T060000
END:STANDARD
BEGIN:DAYLIGHT
TZOFFSETFROM:-0500
TZOFFSETTO:-0400
TZNAME:EDT
DTSTART:20250309T070000
END:DAYLIGHT
BEGIN:STANDARD
TZOFFSETFROM:-0400
TZOFFSETTO:-0500
TZNAME:EST
DTSTART:20251102T060000
END:STANDARD
BEGIN:DAYLIGHT
TZOFFSETFROM:-0500
TZOFFSETTO:-0400
TZNAME:EDT
DTSTART:20260308T070000
END:DAYLIGHT
BEGIN:STANDARD
TZOFFSETFROM:-0400
TZOFFSETTO:-0500
TZNAME:EST
DTSTART:20261101T060000
END:STANDARD
END:VTIMEZONE
BEGIN:VEVENT
DTSTART;TZID=America/New_York:20250222T090000
DTEND;TZID=America/New_York:20250222T153000
DTSTAMP:20260420T015549
CREATED:20241017T142957Z
LAST-MODIFIED:20241017T194358Z
UID:29678-1740214800-1740238200@grillbilliesbarbecue.com
SUMMARY:Celebrity Rib & Brisket Classes-February 22\, 2025
DESCRIPTION:This is considered a Celebrity class which our Cancellation Policy applies \nCelebrity Rib and Brisket Classes \nFebruary 22\, 2025 \n“Do One Or Both” \nRib Class 9:00 AM to 12:30 PM \nBrisket Class 1:00 PM to 3:30 PM \nThis class will be taught by Brian Corbettt of Smokin’ Skullies BBQ and Mat Griner of Southern Q \nMat Griner – Pitmaster of Southern Q BBQ \n4x Grand Champion \nMember of Myron Mixon Pro Cook team\, winners of 2021 World Championships. \nStar of Discovery+ Hit Show “Moonshiners Smoke Ring” \nBrian Corbitt – Pitmaster of Smokin’ Skullies BBQ \n4x Grand Champion \nHeath Riles Sponsored Team. \nStar of Discovery+ Hit Show “Moonshiners Smoke Ring” \n  \nTired of cooking ribs that are under or over-done or are as dry as cardboard?  Our rib class will help to eliminate these and other issues when cooking ribs.  It doesn’t matter whether you are cooking on a gas grill or a smoker\, the same principles apply.  Follow our road map and you should be able to cook the best ribs in the neighborhood. \nIf you are tired of cooking a lousy brisket and wasting money then this class is for you.  Our King of Brisket will teach you all you need to know about cooking that perfect brisket.  This class is back by popular demand so don’t miss it!! Call for details \nWhat you will learn: \nMeat Selection \nTrimming \nInjecting/Brining \nSeasoning Combinations \nTimelines \nCooking Processes \nMethods for Cooking on Any Grill \nWood Selection \nPresentation \nCommon Mistakes \nREGISTER HERE
URL:https://grillbilliesbarbecue.com/event/celebrity-rib-brisket-classes-february-22-2025/
ATTACH;FMTTYPE=image/jpeg:https://grillbilliesbarbecue.com/wp-content/uploads/2021/10/MatandBrian.jpg
END:VEVENT
END:VCALENDAR